BEGIN:VCALENDAR
VERSION:2.0
PRODID:-//The Pearl On Main - ECPv6.15.20//NONSGML v1.0//EN
CALSCALE:GREGORIAN
METHOD:PUBLISH
X-WR-CALNAME:The Pearl On Main
X-ORIGINAL-URL:https://thepearlonmain.com
X-WR-CALDESC:Events for The Pearl On Main
REFRESH-INTERVAL;VALUE=DURATION:PT1H
X-Robots-Tag:noindex
X-PUBLISHED-TTL:PT1H
BEGIN:VTIMEZONE
TZID:America/Denver
BEGIN:DAYLIGHT
TZOFFSETFROM:-0700
TZOFFSETTO:-0600
TZNAME:MDT
DTSTART:20250309T090000
END:DAYLIGHT
BEGIN:STANDARD
TZOFFSETFROM:-0600
TZOFFSETTO:-0700
TZNAME:MST
DTSTART:20251102T080000
END:STANDARD
BEGIN:DAYLIGHT
TZOFFSETFROM:-0700
TZOFFSETTO:-0600
TZNAME:MDT
DTSTART:20260308T090000
END:DAYLIGHT
BEGIN:STANDARD
TZOFFSETFROM:-0600
TZOFFSETTO:-0700
TZNAME:MST
DTSTART:20261101T080000
END:STANDARD
BEGIN:DAYLIGHT
TZOFFSETFROM:-0700
TZOFFSETTO:-0600
TZNAME:MDT
DTSTART:20270314T090000
END:DAYLIGHT
BEGIN:STANDARD
TZOFFSETFROM:-0600
TZOFFSETTO:-0700
TZNAME:MST
DTSTART:20271107T080000
END:STANDARD
END:VTIMEZONE
BEGIN:VEVENT
DTSTART;TZID=America/Denver:20260710T190000
DTEND;TZID=America/Denver:20260710T230000
DTSTAMP:20260424T063232
CREATED:20260320T204448Z
LAST-MODIFIED:20260320T204448Z
UID:7297-1783710000-1783724400@thepearlonmain.com
SUMMARY:Beatles Songscapes
DESCRIPTION:The timeless music of the Beatles reimagined through classical guitar and cinematic visual storytelling. \n  \nTickets available now: https://BeatlesSongscapes.eventbrite.com
URL:https://thepearlonmain.com/event/beatles-songscapes/
LOCATION:The Pearl On Main\, 7711 S. Main Street\, Midvale\, UT\, 84047\, United States
ATTACH;FMTTYPE=image/png:https://thepearlonmain.com/wp-content/uploads/2026/03/Beatles.png
END:VEVENT
BEGIN:VEVENT
DTSTART;TZID=America/Denver:20260714T190000
DTEND;TZID=America/Denver:20260714T230000
DTSTAMP:20260424T063232
CREATED:20260403T211325Z
LAST-MODIFIED:20260403T211325Z
UID:7324-1784055600-1784070000@thepearlonmain.com
SUMMARY:JRC Events Presents Whitney Fenimore
DESCRIPTION:JRC Events Presents: \nWhitney Fenimore \nAll ages show! \nDoors 7:00 / Show 7:30 \nTickets on sale now: https://www.24tix.com/event/wn32q7zr7zg5vhz3xxdxsxujku \n  \nWhitney Fenimore is a Nashville-based indie artist whose sound merges indie-folk\, Americana\, and singer/songwriter into something wholly her own. Born and raised in Tulsa\, Oklahoma\, she grew up in the heart of the Bible Belt\, immersed in Christian music and faith-based culture. Music found her early\, first through a plastic toy guitar at her grandmother’s house\, then through years of writing\, playing\, and eventually unlearning what no longer felt true. After attending a Christian high school and college\, she began to feel the weight of that world. “My faith was changing\, and I wanted to dig deeper into my songwriting\,” she recalls. “I couldn’t do that if I kept going down the same path.” That realization sparked a personal and creative rebirth — one rooted in growth\, self-discovery\, and artistic integrity that now runs through all of her work. Within the past year\, Whitney released a series of standout singles that set the tone for her evolving sound.
URL:https://thepearlonmain.com/event/jrc-events-presents-whitney-fenimore/
LOCATION:The Pearl On Main\, 7711 S. Main Street\, Midvale\, UT\, 84047\, United States
ATTACH;FMTTYPE=image/png:https://thepearlonmain.com/wp-content/uploads/2026/04/WHITNEY-FENIMORE-INSTA-POST.png
END:VEVENT
BEGIN:VEVENT
DTSTART;TZID=America/Denver:20260716T183000
DTEND;TZID=America/Denver:20260716T230000
DTSTAMP:20260424T063232
CREATED:20250924T224455Z
LAST-MODIFIED:20250924T224455Z
UID:6769-1784226600-1784242800@thepearlonmain.com
SUMMARY:EMM - The Dumb Tour
DESCRIPTION:Get ready to experience an unforgettable night with EMM at “THE DUMB TOUR!” \n  \nDoors – 6:30 \nMusic – 7 \nTickets available now: https://www.eventbrite.com/e/emm-tickets-1661326806199?aff=oddtdtcreator
URL:https://thepearlonmain.com/event/emm-the-dumb-tour/
LOCATION:The Pearl On Main\, 7711 S. Main Street\, Midvale\, UT\, 84047\, United States
ATTACH;FMTTYPE=image/png:https://thepearlonmain.com/wp-content/uploads/2025/09/EMM-Poster.png
END:VEVENT
BEGIN:VEVENT
DTSTART;TZID=America/Denver:20260717T190000
DTEND;TZID=America/Denver:20260717T230000
DTSTAMP:20260424T063232
CREATED:20260317T144428Z
LAST-MODIFIED:20260325T183541Z
UID:7273-1784314800-1784329200@thepearlonmain.com
SUMMARY:TN Shine Co. Presents: Dallas Murrae – Live in Salt Lake City
DESCRIPTION:Dallas Murrae performs live in Salt Lake City at Pearl on Main with special guests Club Mungo\, KTHKNG\, and Anna Jay. \n\n\n\n\nTennessee Shine Co & Envelope Empire Present: Dallas Murrae Live in Salt Lake City! The Varsity Only Family are coming to The Pearl On Main for a special homecoming performance you don’t want to miss! \n  \nDoors at 7 PM / Show at 8 PM \nLocal Support From:\nClub Mungo\nKTHKNG\nAnna Jay \nAll Ages Admission + Full Bar Area for 21+ Patrons \nThis will be a high-energy show featuring new music\, fan favorites\, and celebrating special moments for one night only! \n\nTickets available now: https://www.eventbrite.com/e/tn-shine-co-presents-dallas-murrae-live-in-salt-lake-city-tickets-1985220800856?aff=oddtdtcreator
URL:https://thepearlonmain.com/event/tn-shine-co-presents-dallas-murrae-live-in-salt-lake-city/
LOCATION:The Pearl On Main\, 7711 S. Main Street\, Midvale\, UT\, 84047\, United States
ATTACH;FMTTYPE=image/png:https://thepearlonmain.com/wp-content/uploads/2026/03/murrae.png
END:VEVENT
END:VCALENDAR