BEGIN:VCALENDAR
VERSION:2.0
PRODID:-//The Pearl On Main - ECPv6.15.20//NONSGML v1.0//EN
CALSCALE:GREGORIAN
METHOD:PUBLISH
X-ORIGINAL-URL:https://thepearlonmain.com
X-WR-CALDESC:Events for The Pearl On Main
REFRESH-INTERVAL;VALUE=DURATION:PT1H
X-Robots-Tag:noindex
X-PUBLISHED-TTL:PT1H
BEGIN:VTIMEZONE
TZID:America/Denver
BEGIN:DAYLIGHT
TZOFFSETFROM:-0700
TZOFFSETTO:-0600
TZNAME:MDT
DTSTART:20250309T090000
END:DAYLIGHT
BEGIN:STANDARD
TZOFFSETFROM:-0600
TZOFFSETTO:-0700
TZNAME:MST
DTSTART:20251102T080000
END:STANDARD
BEGIN:DAYLIGHT
TZOFFSETFROM:-0700
TZOFFSETTO:-0600
TZNAME:MDT
DTSTART:20260308T090000
END:DAYLIGHT
BEGIN:STANDARD
TZOFFSETFROM:-0600
TZOFFSETTO:-0700
TZNAME:MST
DTSTART:20261101T080000
END:STANDARD
BEGIN:DAYLIGHT
TZOFFSETFROM:-0700
TZOFFSETTO:-0600
TZNAME:MDT
DTSTART:20270314T090000
END:DAYLIGHT
BEGIN:STANDARD
TZOFFSETFROM:-0600
TZOFFSETTO:-0700
TZNAME:MST
DTSTART:20271107T080000
END:STANDARD
END:VTIMEZONE
BEGIN:VEVENT
DTSTART;TZID=America/Denver:20260605T190000
DTEND;TZID=America/Denver:20260605T230000
DTSTAMP:20260424T063820
CREATED:20260318T215716Z
LAST-MODIFIED:20260417T201741Z
UID:7280-1780686000-1780700400@thepearlonmain.com
SUMMARY:JRC Events Presents CD Ghost / Carrellee
DESCRIPTION:JRC Events Presents: \nCD GHOST / CARRELLEE \nwith special guests Banshee Twin \nAll ages show! \nDoors 7:00 / Show 8:00 \nTickets on sale now: https://www.24tix.com/event/uli5qdxh5jbopfmmvexdksgcpy
URL:https://thepearlonmain.com/event/jrc-events-presents-cd-ghost-carrellee/
LOCATION:The Pearl On Main\, 7711 S. Main Street\, Midvale\, UT\, 84047\, United States
ATTACH;FMTTYPE=image/png:https://thepearlonmain.com/wp-content/uploads/2026/03/CD-GHOST-STORY.png
END:VEVENT
BEGIN:VEVENT
DTSTART;TZID=America/Denver:20260606T190000
DTEND;TZID=America/Denver:20260607T230000
DTSTAMP:20260424T063820
CREATED:20260204T175846Z
LAST-MODIFIED:20260204T183607Z
UID:7135-1780772400-1780873200@thepearlonmain.com
SUMMARY:Fenwick & the Futures
DESCRIPTION:We are Fenwick & the Futures \nA soul-soundcraft weaving angst into fire\, \nlight into breath\, \nshadow into signal. \n  \nWe’re not here to impress you. \nWe’re here to remind you. \nThat wherever you are… \nyou’re not alone. \nYou’re not lost. \nYou are a FUTURE. \n  \n\n\n\n\n\n\n\n\n\n\n\nWe make this music to walk with you… through the difficult parts\, the rising parts\, the Beautiful\, Terrible parts. If you feel something here\, even just a flicker\, you’re already one of us. \n  \nBut we don’t call you fans. \nWe call you Futures. \n  \nWherever your heart is traveling\, \nmay our sound be your companion star ⭒ \n  \nSignal received. \nAdventure unlocked. \nSee you at the show\, Future. \n  \n\n\n\n\n*We’re headlining this show playing our full set at 9pm! \n  \n\n\n\n\n\n\nBe part of Futures history at our first show EVER in Utah! \n  \n\n\n\n\n\n\n• All-Ages show! \n• *Doors open at 6:30pm! \n• Special local guests opening \n• Small venue! Limited tickets! \n\nTickets available now: https://music.fenwickandthefutures.com/june-6
URL:https://thepearlonmain.com/event/fenwick-the-futures/
LOCATION:The Pearl On Main\, 7711 S. Main Street\, Midvale\, UT\, 84047\, United States
ATTACH;FMTTYPE=image/jpeg:https://thepearlonmain.com/wp-content/uploads/2026/02/FENWICK-JUNE-6-PEARL-ON-MAIN.jpg
END:VEVENT
BEGIN:VEVENT
DTSTART;TZID=America/Denver:20260612T190000
DTEND;TZID=America/Denver:20260612T230000
DTSTAMP:20260424T063820
CREATED:20260320T204821Z
LAST-MODIFIED:20260320T204821Z
UID:7300-1781290800-1781305200@thepearlonmain.com
SUMMARY:For the Love - No Future Records Showcase
DESCRIPTION:Live at the Pearl on Main – Randy Aguilar\, Eternal Loser\, Barbara Romanov and Imari Qi \nDoors – 7:00 – Music – 7:30 PM \n  \nTickets available now: https://www.eventbrite.com/e/for-the-love-no-future-records-showcase-tickets-1985099892215?aff=oddtdtcreator
URL:https://thepearlonmain.com/event/for-the-love-no-future-records-showcase/
LOCATION:The Pearl On Main\, 7711 S. Main Street\, Midvale\, UT\, 84047\, United States
ATTACH;FMTTYPE=image/png:https://thepearlonmain.com/wp-content/uploads/2026/03/For-the-Love.png
END:VEVENT
BEGIN:VEVENT
DTSTART;TZID=America/Denver:20260614T190000
DTEND;TZID=America/Denver:20260614T230000
DTSTAMP:20260424T063820
CREATED:20260327T184257Z
LAST-MODIFIED:20260417T201649Z
UID:7316-1781463600-1781478000@thepearlonmain.com
SUMMARY:JRC Events Presents ACE MONROE
DESCRIPTION:JRC Events Presents \nACE MONROE \nwith special guests: Blackwater Voodoo \nAll ages show! \nDoors 7:00 / Show 7:30 \nTickets on sale now: https://www.24tix.com/event/25772331884 \n  \nAce Monroe is a rock band formed in 2022\, consisting of vocalist Robbie Dylan\, lead guitarist Josh Alfano\, rhythm guitarist Jack Kaiser\, bassist Erik McIntyre\, and drummer Jonathan Tatooles. The band is inspired by the bluesy rawness of 70’s rock n’ roll bands such as Aerosmith\, The Rolling Stones\, The Faces\, and Led Zeppelin. Ace Monroe’s music is characterized by its old-school approach to songwriting and performing\, with a blend of grit and innovation. They have released their debut album\, Shelter in Place\, on February 18\, 2022\, and their next album\, Wild Card\, is set to be released in April 2025. The band’s live performances are known for their electrifying energy and unapologetic rock n’ roll style.
URL:https://thepearlonmain.com/event/jrc-events-presents-ace-monroe/
LOCATION:The Pearl On Main\, 7711 S. Main Street\, Midvale\, UT\, 84047\, United States
ATTACH;FMTTYPE=image/png:https://thepearlonmain.com/wp-content/uploads/2026/03/ACE-MONROE-STORY.png
END:VEVENT
BEGIN:VEVENT
DTSTART;TZID=America/Denver:20260618T190000
DTEND;TZID=America/Denver:20260618T230000
DTSTAMP:20260424T063820
CREATED:20260219T211151Z
LAST-MODIFIED:20260219T211151Z
UID:7188-1781809200-1781823600@thepearlonmain.com
SUMMARY:JRC Events Presents Moon Walker with special guests: Pretoria + Super Cassette
DESCRIPTION:JRC Events Presents: \nMoon Walker\nwith special guests:\nPretoria\nSuper Cassette \nDoors 6:00 / Show 7:00 \nTickets on sale now: https://www.24tix.com/event/pd6qshlwyfhipf6b4lm4chuhae
URL:https://thepearlonmain.com/event/jrc-events-presents-moon-walker-with-special-guests-pretoria-super-cassette/
LOCATION:The Pearl On Main\, 7711 S. Main Street\, Midvale\, UT\, 84047\, United States
ATTACH;FMTTYPE=image/jpeg:https://thepearlonmain.com/wp-content/uploads/2026/02/moon-walker.jpg
END:VEVENT
BEGIN:VEVENT
DTSTART;TZID=America/Denver:20260619T190000
DTEND;TZID=America/Denver:20260619T230000
DTSTAMP:20260424T063820
CREATED:20260126T234827Z
LAST-MODIFIED:20260409T222503Z
UID:7093-1781895600-1781910000@thepearlonmain.com
SUMMARY:The Pearl on Main Presents: the Myocardia Tour
DESCRIPTION:The Pearl on Main Presents: the Myocardia Tour \nValkerie\, Dogpaw and Felix Indigo \nDoors – 7 PM – Music -7:30 PM \n  \nTickets available now: https://www.eventbrite.com/e/the-pearl-on-main-presents-the-myocardia-tour-tickets-1981629103994?aff=oddtdtcreator
URL:https://thepearlonmain.com/event/the-pearl-on-main-presents-the-myocardia-tour/
LOCATION:The Pearl On Main\, 7711 S. Main Street\, Midvale\, UT\, 84047\, United States
ATTACH;FMTTYPE=image/png:https://thepearlonmain.com/wp-content/uploads/2026/01/valk.png
END:VEVENT
BEGIN:VEVENT
DTSTART;TZID=America/Denver:20260710T190000
DTEND;TZID=America/Denver:20260710T230000
DTSTAMP:20260424T063820
CREATED:20260320T204448Z
LAST-MODIFIED:20260320T204448Z
UID:7297-1783710000-1783724400@thepearlonmain.com
SUMMARY:Beatles Songscapes
DESCRIPTION:The timeless music of the Beatles reimagined through classical guitar and cinematic visual storytelling. \n  \nTickets available now: https://BeatlesSongscapes.eventbrite.com
URL:https://thepearlonmain.com/event/beatles-songscapes/
LOCATION:The Pearl On Main\, 7711 S. Main Street\, Midvale\, UT\, 84047\, United States
ATTACH;FMTTYPE=image/png:https://thepearlonmain.com/wp-content/uploads/2026/03/Beatles.png
END:VEVENT
BEGIN:VEVENT
DTSTART;TZID=America/Denver:20260714T190000
DTEND;TZID=America/Denver:20260714T230000
DTSTAMP:20260424T063820
CREATED:20260403T211325Z
LAST-MODIFIED:20260403T211325Z
UID:7324-1784055600-1784070000@thepearlonmain.com
SUMMARY:JRC Events Presents Whitney Fenimore
DESCRIPTION:JRC Events Presents: \nWhitney Fenimore \nAll ages show! \nDoors 7:00 / Show 7:30 \nTickets on sale now: https://www.24tix.com/event/wn32q7zr7zg5vhz3xxdxsxujku \n  \nWhitney Fenimore is a Nashville-based indie artist whose sound merges indie-folk\, Americana\, and singer/songwriter into something wholly her own. Born and raised in Tulsa\, Oklahoma\, she grew up in the heart of the Bible Belt\, immersed in Christian music and faith-based culture. Music found her early\, first through a plastic toy guitar at her grandmother’s house\, then through years of writing\, playing\, and eventually unlearning what no longer felt true. After attending a Christian high school and college\, she began to feel the weight of that world. “My faith was changing\, and I wanted to dig deeper into my songwriting\,” she recalls. “I couldn’t do that if I kept going down the same path.” That realization sparked a personal and creative rebirth — one rooted in growth\, self-discovery\, and artistic integrity that now runs through all of her work. Within the past year\, Whitney released a series of standout singles that set the tone for her evolving sound.
URL:https://thepearlonmain.com/event/jrc-events-presents-whitney-fenimore/
LOCATION:The Pearl On Main\, 7711 S. Main Street\, Midvale\, UT\, 84047\, United States
ATTACH;FMTTYPE=image/png:https://thepearlonmain.com/wp-content/uploads/2026/04/WHITNEY-FENIMORE-INSTA-POST.png
END:VEVENT
BEGIN:VEVENT
DTSTART;TZID=America/Denver:20260716T183000
DTEND;TZID=America/Denver:20260716T230000
DTSTAMP:20260424T063820
CREATED:20250924T224455Z
LAST-MODIFIED:20250924T224455Z
UID:6769-1784226600-1784242800@thepearlonmain.com
SUMMARY:EMM - The Dumb Tour
DESCRIPTION:Get ready to experience an unforgettable night with EMM at “THE DUMB TOUR!” \n  \nDoors – 6:30 \nMusic – 7 \nTickets available now: https://www.eventbrite.com/e/emm-tickets-1661326806199?aff=oddtdtcreator
URL:https://thepearlonmain.com/event/emm-the-dumb-tour/
LOCATION:The Pearl On Main\, 7711 S. Main Street\, Midvale\, UT\, 84047\, United States
ATTACH;FMTTYPE=image/png:https://thepearlonmain.com/wp-content/uploads/2025/09/EMM-Poster.png
END:VEVENT
BEGIN:VEVENT
DTSTART;TZID=America/Denver:20260717T190000
DTEND;TZID=America/Denver:20260717T230000
DTSTAMP:20260424T063820
CREATED:20260317T144428Z
LAST-MODIFIED:20260325T183541Z
UID:7273-1784314800-1784329200@thepearlonmain.com
SUMMARY:TN Shine Co. Presents: Dallas Murrae – Live in Salt Lake City
DESCRIPTION:Dallas Murrae performs live in Salt Lake City at Pearl on Main with special guests Club Mungo\, KTHKNG\, and Anna Jay. \n\n\n\n\nTennessee Shine Co & Envelope Empire Present: Dallas Murrae Live in Salt Lake City! The Varsity Only Family are coming to The Pearl On Main for a special homecoming performance you don’t want to miss! \n  \nDoors at 7 PM / Show at 8 PM \nLocal Support From:\nClub Mungo\nKTHKNG\nAnna Jay \nAll Ages Admission + Full Bar Area for 21+ Patrons \nThis will be a high-energy show featuring new music\, fan favorites\, and celebrating special moments for one night only! \n\nTickets available now: https://www.eventbrite.com/e/tn-shine-co-presents-dallas-murrae-live-in-salt-lake-city-tickets-1985220800856?aff=oddtdtcreator
URL:https://thepearlonmain.com/event/tn-shine-co-presents-dallas-murrae-live-in-salt-lake-city/
LOCATION:The Pearl On Main\, 7711 S. Main Street\, Midvale\, UT\, 84047\, United States
ATTACH;FMTTYPE=image/png:https://thepearlonmain.com/wp-content/uploads/2026/03/murrae.png
END:VEVENT
BEGIN:VEVENT
DTSTART;TZID=America/Denver:20260818T190000
DTEND;TZID=America/Denver:20260818T230000
DTSTAMP:20260424T063820
CREATED:20260211T171450Z
LAST-MODIFIED:20260211T171548Z
UID:7163-1787079600-1787094000@thepearlonmain.com
SUMMARY:Wille and The Bandits and Erik Vincent Huey
DESCRIPTION:Wille and The Bandits\nWille and the Bandits are a British-based band who play a variety of different genres spanning across the blues\, rock\, Latin and folk styles. The band currently consists of Wille Edwards\, Matthew Gallagher\, Harry Mackaill and Tom Gilkes. To date\, they have released five studio albums and one live album. \nERIK VINCENT HUEY\nThe son of four generations of coal miners\, Erik grew up along the banks of the Monongahela River in West Virginia and Western Pennsylvania. He came of age listening to The Clash\, X and the Sex Pistols\, but never truly escaped his Appalachian roots. From the cowpunk on-ramp of The Blasters\, The Beat Farmers\, Jason & the Scorchers\, and Dwight Yoakam\, he wandered upstream along the Hillbilly Highway until he rediscovered Johnny Cash and George Jones—artists he’d listened to as a kid in the cab of his Uncle Jack’s 18-wheeler. \nDoors: 6:30\, Music: 7:00 \nTickets available now: https://www.eventbrite.com/e/wille-and-the-bandits-and-erik-vincent-huey-tickets-1982832241611?aff=oddtdtcreator
URL:https://thepearlonmain.com/event/wille-and-the-bandits-and-erik-vincent-huey/
LOCATION:The Pearl On Main\, 7711 S. Main Street\, Midvale\, UT\, 84047\, United States
ATTACH;FMTTYPE=image/png:https://thepearlonmain.com/wp-content/uploads/2026/02/Willybandit.png
END:VEVENT
BEGIN:VEVENT
DTSTART;TZID=America/Denver:20260912T130000
DTEND;TZID=America/Denver:20260912T230000
DTSTAMP:20260424T063820
CREATED:20260130T215015Z
LAST-MODIFIED:20260423T170256Z
UID:7104-1789218000-1789254000@thepearlonmain.com
SUMMARY:Grillfest 2026
DESCRIPTION:Grillfest 2026\nGrillfest is a boutique-style celebration of meat\, metal\, and medieval mayhem\, bringing music\, food\, and live spectacle together in one immersive\, all-day experience. \nThis is an all-ages event taking place on Saturday\, September 12\, 2026\, in Midvale\, Utah. \nMain Street will be cordoned off and fully walkable\, transforming the area into an outdoor festival space filled with food vendors\, pop-ups\, and live attractions. Guests are encouraged to arrive hungry and plan to stay. \nVenue doors open at 1:00 p.m. \nTickets available now: https://Grillfest2026_PearlonMain.eventbrite.com \nPerforming Artists\n\nJudicator (Headliner)\nAdamantis\nArsenic Addiction\nShadowStrike\nPatema\nBehölder\nTriune\nDarconigan\n\nIn addition to live music\, the event will feature live medieval combat and professional wrestling\, along with curated food and vendor experiences throughout the day. \nFor sponsorship\, vendor\, and press opportunities or general inquiries\, please visit Grillfestutah.com or contact GrillfestUtah@gmail.com
URL:https://thepearlonmain.com/event/grillfest-2026/
LOCATION:The Pearl On Main\, 7711 S. Main Street\, Midvale\, UT\, 84047\, United States
ATTACH;FMTTYPE=image/png:https://thepearlonmain.com/wp-content/uploads/2026/01/Grillfest26.png
END:VEVENT
BEGIN:VEVENT
DTSTART;TZID=America/Denver:20260922T183000
DTEND;TZID=America/Denver:20260922T230000
DTSTAMP:20260424T063820
CREATED:20260421T223141Z
LAST-MODIFIED:20260421T223141Z
UID:7374-1790101800-1790118000@thepearlonmain.com
SUMMARY:Johnny Manchild and the Poor Bastards - the Side Effects Tour
DESCRIPTION:Johnny Manchild and the Poor Bastards – the Side Effects Tour\nwith Friend of a Friend and Karma and the Killjoys \n  \nDoors – 6:30\, Music – 7:30 \n  \nTickets available now: https://JohnnyManchildSideEffectsTour.eventbrite.com
URL:https://thepearlonmain.com/event/johnny-manchild-and-the-poor-bastards-the-side-effects-tour/
LOCATION:The Pearl On Main\, 7711 S. Main Street\, Midvale\, UT\, 84047\, United States
ATTACH;FMTTYPE=image/png:https://thepearlonmain.com/wp-content/uploads/2026/04/Manchild-Poster.png
END:VEVENT
BEGIN:VEVENT
DTSTART;TZID=America/Denver:20261013T190000
DTEND;TZID=America/Denver:20261013T230000
DTSTAMP:20260424T063820
CREATED:20260325T181914Z
LAST-MODIFIED:20260325T181914Z
UID:7307-1791918000-1791932400@thepearlonmain.com
SUMMARY:JRC Events Presents Cheekface with special guests: Bodega
DESCRIPTION:JRC Events Presents: \nCHEEKFACE\nwith special guests: Bodega \nAll ages show! \nDoors 6:00 / Show 7:00 \nTickets on sale: https://www.24tix.com/event/basoermdljdjvkfyfqkoquf2va
URL:https://thepearlonmain.com/event/jrc-events-presents-cheekface-with-special-guests-bodega/
LOCATION:The Pearl On Main\, 7711 S. Main Street\, Midvale\, UT\, 84047\, United States
ATTACH;FMTTYPE=image/jpeg:https://thepearlonmain.com/wp-content/uploads/2026/03/basoermdljdjvkfyfqkoquf2va.jpg
END:VEVENT
END:VCALENDAR