BEGIN:VCALENDAR
VERSION:2.0
PRODID:-//The Pearl On Main - ECPv6.15.20//NONSGML v1.0//EN
CALSCALE:GREGORIAN
METHOD:PUBLISH
X-ORIGINAL-URL:https://thepearlonmain.com
X-WR-CALDESC:Events for The Pearl On Main
REFRESH-INTERVAL;VALUE=DURATION:PT1H
X-Robots-Tag:noindex
X-PUBLISHED-TTL:PT1H
BEGIN:VTIMEZONE
TZID:America/Denver
BEGIN:DAYLIGHT
TZOFFSETFROM:-0700
TZOFFSETTO:-0600
TZNAME:MDT
DTSTART:20250309T090000
END:DAYLIGHT
BEGIN:STANDARD
TZOFFSETFROM:-0600
TZOFFSETTO:-0700
TZNAME:MST
DTSTART:20251102T080000
END:STANDARD
BEGIN:DAYLIGHT
TZOFFSETFROM:-0700
TZOFFSETTO:-0600
TZNAME:MDT
DTSTART:20260308T090000
END:DAYLIGHT
BEGIN:STANDARD
TZOFFSETFROM:-0600
TZOFFSETTO:-0700
TZNAME:MST
DTSTART:20261101T080000
END:STANDARD
BEGIN:DAYLIGHT
TZOFFSETFROM:-0700
TZOFFSETTO:-0600
TZNAME:MDT
DTSTART:20270314T090000
END:DAYLIGHT
BEGIN:STANDARD
TZOFFSETFROM:-0600
TZOFFSETTO:-0700
TZNAME:MST
DTSTART:20271107T080000
END:STANDARD
END:VTIMEZONE
BEGIN:VEVENT
DTSTART;TZID=America/Denver:20260420T190000
DTEND;TZID=America/Denver:20260420T230000
DTSTAMP:20260422T053657
CREATED:20260206T175045Z
LAST-MODIFIED:20260206T175045Z
UID:7150-1776711600-1776726000@thepearlonmain.com
SUMMARY:Radical Tour Pt. 1 - Lioneer + Gavin Prophet
DESCRIPTION:Lioneer + Gavin Prophet with Always Her and Scarlett Letter \nDoors – 7 PM – Music -7:30 PM
URL:https://thepearlonmain.com/event/radical-tour-pt-1-lioneer-gavin-prophet/
LOCATION:The Pearl On Main\, 7711 S. Main Street\, Midvale\, UT\, 84047\, United States
ATTACH;FMTTYPE=image/png:https://thepearlonmain.com/wp-content/uploads/2026/02/Lioneer.png
END:VEVENT
END:VCALENDAR