BEGIN:VCALENDAR
VERSION:2.0
PRODID:-//The Pearl On Main - ECPv6.15.20//NONSGML v1.0//EN
CALSCALE:GREGORIAN
METHOD:PUBLISH
X-WR-CALNAME:The Pearl On Main
X-ORIGINAL-URL:https://thepearlonmain.com
X-WR-CALDESC:Events for The Pearl On Main
REFRESH-INTERVAL;VALUE=DURATION:PT1H
X-Robots-Tag:noindex
X-PUBLISHED-TTL:PT1H
BEGIN:VTIMEZONE
TZID:America/Denver
BEGIN:DAYLIGHT
TZOFFSETFROM:-0700
TZOFFSETTO:-0600
TZNAME:MDT
DTSTART:20250309T090000
END:DAYLIGHT
BEGIN:STANDARD
TZOFFSETFROM:-0600
TZOFFSETTO:-0700
TZNAME:MST
DTSTART:20251102T080000
END:STANDARD
BEGIN:DAYLIGHT
TZOFFSETFROM:-0700
TZOFFSETTO:-0600
TZNAME:MDT
DTSTART:20260308T090000
END:DAYLIGHT
BEGIN:STANDARD
TZOFFSETFROM:-0600
TZOFFSETTO:-0700
TZNAME:MST
DTSTART:20261101T080000
END:STANDARD
BEGIN:DAYLIGHT
TZOFFSETFROM:-0700
TZOFFSETTO:-0600
TZNAME:MDT
DTSTART:20270314T090000
END:DAYLIGHT
BEGIN:STANDARD
TZOFFSETFROM:-0600
TZOFFSETTO:-0700
TZNAME:MST
DTSTART:20271107T080000
END:STANDARD
END:VTIMEZONE
BEGIN:VEVENT
DTSTART;TZID=America/Denver:20260417T180000
DTEND;TZID=America/Denver:20260417T230000
DTSTAMP:20260424T022009
CREATED:20260226T160500Z
LAST-MODIFIED:20260226T160513Z
UID:7209-1776448800-1776466800@thepearlonmain.com
SUMMARY:Happy Valley Comedy Presents: Jack Grady - LIVE Comedy / Magic
DESCRIPTION:🎩 JACK GRADY – MIDVALE UT 🎩 \n🔥 Jack Grady’s chaotic hilarious energy has earned him a massive cult following and a reputation as one of the most unhinged performers in comedy magic. He holds the record for the shortest audition in America’s Got Talent history and is the first magician to ever compete in a professional boxing match 🤯 \n🪄 His comedy magic is completely unpredictable blending impossible tricks rapid fire punchlines and controlled chaos into one unforgettable show. Whether he is blowing minds or breaking expectations Jack Grady guarantees a night that is as funny as it is mind bending 😂 \n📆 Friday April 17 📍 Pearl on Main Theatre – Midvale Utah ⏰ Show starts at 6:00 PM \n⭐ VIP EXPERIENCE ⭐ 🎟️ Limited VIP seating includes the entire front row and access to a private 30 minute close up magic show with Jack. VIP tickets are extremely limited and capped at the front row only 🎩 \n🍿 Do not miss this wild one of a kind comedy magic experience in an intimate theatre setting 🥂 \n📌 Want more of Utah’s best live comedy Happy Valley Comedy has got you covered 😃 \n  \nTickets available now: https://markitai.com/e/-Zrz0cELT
URL:https://thepearlonmain.com/event/happy-valley-comedy-presents-jack-grady-live-comedy-magic/
LOCATION:The Pearl On Main\, 7711 S. Main Street\, Midvale\, UT\, 84047\, United States
ATTACH;FMTTYPE=image/jpeg:https://thepearlonmain.com/wp-content/uploads/2026/02/4.17.26-_-HVC-Jack_Grady-HL_16x9-1.jpg
END:VEVENT
END:VCALENDAR